BEGIN:VCALENDAR
VERSION:2.0
PRODID:-//hacksw/handcal//NONSGML v1.0//EN
METHOD:PUBLISH
CALSCALE:GREGORIAN
BEGIN:VEVENT
UID:69e7d6297a496
DTSTART:20260214T190000Z
DTSTAMP:20260101T180000Z
DTEND:
LOCATION:KunstKulturKirche Allerheiligen
DESCRIPTION:dedicated to Uwe Dierksen  (1959–2026)  Members of: Ens
 emble Modern\, hr-Bigband\, hr-Sinfonieorchester\, IEMA-Ensemble 2025
 /26     \nHomepage: https://www.cresc-biennale.de/en/programme/2026-0
 2-14/beehive-connection
URL;VALUE=URI:
SUMMARY:beehive connection
END:VEVENT
END:VCALENDAR
