BEGIN:VCALENDAR
VERSION:2.0
PRODID:-//hacksw/handcal//NONSGML v1.0//EN
METHOD:PUBLISH
CALSCALE:GREGORIAN
BEGIN:VEVENT
UID:69e7d7f60deff
DTSTART:20260213T190000Z
DTSTAMP:20260101T180000Z
DTEND:20260213T210000Z
LOCATION:Künstler*innenhaus Mousonturm
DESCRIPTION:IEMA-Ensemble 2025/26\, Continuum XXI     \nHomepage: htt
 ps://www.cresc-biennale.de/en/programme/2026-02-13/swarm-music
URL;VALUE=URI:
SUMMARY:swarm music
END:VEVENT
END:VCALENDAR
