BEGIN:VCALENDAR
VERSION:2.0
PRODID:-//hacksw/handcal//NONSGML v1.0//EN
METHOD:PUBLISH
CALSCALE:GREGORIAN
BEGIN:VEVENT
UID:69e7eee80d09f
DTSTART:20260207T180000Z
DTSTAMP:20260101T180000Z
DTEND:20260207T200000Z
LOCATION:hr-Sendesaal Frankfurt
DESCRIPTION:hr-Sinfonieorchester\, Synergy Vocals | Choir\, Brad Lubm
 an | Conductor     \nHomepage: https://www.cresc-biennale.de/en/progr
 amme/2026-02-07/desert-music
URL;VALUE=URI:
SUMMARY:desert music
END:VEVENT
END:VCALENDAR
