BEGIN:VCALENDAR
VERSION:2.0
PRODID:-//hacksw/handcal//NONSGML v1.0//EN
METHOD:PUBLISH
CALSCALE:GREGORIAN
BEGIN:VEVENT
UID:69e7f08a16c52
DTSTART:20260207T160000Z
DTSTAMP:20260101T180000Z
DTEND:20260207T180000Z
LOCATION:Dornbuschkirche
DESCRIPTION:Members of Ensemble Modern\, pupils from selected Frankfu
 rt schools     \nHomepage: https://www.cresc-biennale.de/en/programme
 /2026-02-07/kraftwerke
URL;VALUE=URI:
SUMMARY:kraftwerke
END:VEVENT
END:VCALENDAR
