BEGIN:VCALENDAR
VERSION:2.0
PRODID:-//hacksw/handcal//NONSGML v1.0//EN
METHOD:PUBLISH
CALSCALE:GREGORIAN
BEGIN:VEVENT
UID:69e7c0cbdc45d
DTSTART:20260206T190000Z
DTSTAMP:20260101T180000Z
DTEND:20260206T210000Z
LOCATION:VILCO Bad Vilbel
DESCRIPTION:Ensemble Modern\, hr-Sinfonieorchester\, Sylvain Cambreli
 ng | Conductor     \nHomepage: https://www.cresc-biennale.de/en/progr
 amme/2026-02-06/superorganism
URL;VALUE=URI:
SUMMARY:superorganism
END:VEVENT
END:VCALENDAR
