BEGIN:VCALENDAR
VERSION:2.0
PRODID:-//hacksw/handcal//NONSGML v1.0//EN
METHOD:PUBLISH
CALSCALE:GREGORIAN
BEGIN:VEVENT
UID:69e7da50e216b
DTSTART:20260205T190000Z
DTSTAMP:20260101T180000Z
DTEND:20260205T210000Z
LOCATION:Centralstation Darmstadt
DESCRIPTION:hr-Bigband\, Trondheim Voices | Choir\, John Hollenbeck |
  Conductor     \nHomepage: https://www.cresc-biennale.de/en/programme
 /2026-02-05/swarming-voices
URL;VALUE=URI:
SUMMARY:SWARMING VOICES
END:VEVENT
END:VCALENDAR
