BEGIN:VCALENDAR
VERSION:2.0
PRODID:-//hacksw/handcal//NONSGML v1.0//EN
METHOD:PUBLISH
CALSCALE:GREGORIAN
BEGIN:VEVENT
UID:69e8fedfe2cdd
DTSTART:20260203T230000Z
DTSTAMP:20260101T180000Z
DTEND:20260215T225900Z
LOCATION:KunstKulturKirche Allerheiligen
DESCRIPTION:A Light and Sound Installation     \nHomepage: https://ww
 w.cresc-biennale.de/en/programme/2026-02-04/inside-the-swarm
URL;VALUE=URI:
SUMMARY:inside the swarm
END:VEVENT
END:VCALENDAR
